BEGIN:VCALENDAR
VERSION:2.0
PRODID:-//Akademin för SERterapi - ECPv6.15.20//NONSGML v1.0//EN
CALSCALE:GREGORIAN
METHOD:PUBLISH
X-WR-CALNAME:Akademin för SERterapi
X-ORIGINAL-URL:https://serterapi.se
X-WR-CALDESC:Händelser för Akademin för SERterapi
REFRESH-INTERVAL;VALUE=DURATION:PT1H
X-Robots-Tag:noindex
X-PUBLISHED-TTL:PT1H
BEGIN:VTIMEZONE
TZID:Europe/Paris
BEGIN:DAYLIGHT
TZOFFSETFROM:+0100
TZOFFSETTO:+0200
TZNAME:CEST
DTSTART:20250330T010000
END:DAYLIGHT
BEGIN:STANDARD
TZOFFSETFROM:+0200
TZOFFSETTO:+0100
TZNAME:CET
DTSTART:20251026T010000
END:STANDARD
BEGIN:DAYLIGHT
TZOFFSETFROM:+0100
TZOFFSETTO:+0200
TZNAME:CEST
DTSTART:20260329T010000
END:DAYLIGHT
BEGIN:STANDARD
TZOFFSETFROM:+0200
TZOFFSETTO:+0100
TZNAME:CET
DTSTART:20261025T010000
END:STANDARD
BEGIN:DAYLIGHT
TZOFFSETFROM:+0100
TZOFFSETTO:+0200
TZNAME:CEST
DTSTART:20270328T010000
END:DAYLIGHT
BEGIN:STANDARD
TZOFFSETFROM:+0200
TZOFFSETTO:+0100
TZNAME:CET
DTSTART:20271031T010000
END:STANDARD
END:VTIMEZONE
BEGIN:VEVENT
DTSTART;TZID=Europe/Paris:20260416T090000
DTEND;TZID=Europe/Paris:20260417T150000
DTSTAMP:20260420T201523
CREATED:20240802T202648Z
LAST-MODIFIED:20260322T110334Z
UID:3893-1776330000-1776438000@serterapi.se
SUMMARY:Existentiell psykologi - 2 dagarskurs
DESCRIPTION:Två dagars kurs med föreläsning\, diskussion och egen upplevelse.\nKursen finns på distans och på plats i Ramlösa. \nVi utgår från existentiell psykologi och berör teman som livsmod och livskraft\, döden\, livets mening\, livskriser\, meningsfullhet\, meningslöshet\, ensamhet och gemenskap.Vi ställer frågor som:Vad är meningsfullt för mig?Hur ser jag på döden?Vad innebär det att gå igenom en livskris?Lever jag det liv jag egentligen vill leva? \nDet är frågor som inte har färdiga svar.Vi utforskar tillsammans genom upplevelser\, samtal och reflektion\, och varvar detta med föreläsning. \nDin livsväg – från tonåren fram till nuet – står i fokus.Vi berör och binder samman det existentiella med ditt eget liv\, där viktiga händelser och erfarenheter får ta plats.Dagarna avslutas med att vi riktar blicken framåt och skapar en bild av den framtid du önskar.Vad är viktigt för mig? Vad vill jag leva för? \nVi binder också ihop det existentiella med aktuella samhällsfrågor.Vi följer deltagarnas tankar och känslor kring det som händer i världen och i samhället\, vilket gör att innehållet kan få olika fokus från gång till gång.Vad väcker det som händer i dig?Vilka tankar får du om framtiden?Hur påverkas vi som människor? \nGenom att sätta ord på våra reaktioner och upplevelser knyter vi ihop det personliga med den existentiella psykologin och ser hur våra liv hänger samman med den tid vi lever i. \n\nRöster ur kursdagarna.\n”Jag tyckte att innehållet var mycket intressant och också väldigt relevant i dessa tider. Det var intressant att ta konkreta exempel från aktuella händelser i samhället och även viktigt att prata om vad coronapandemin väcker hos människor\, det väcker ju något hos var och en av oss och när vi även arbetar med människor så är det särskilt viktigt att vi har detta i åtanke. Det var mycket bra med övningarna som vi fick göra och mycket intressant och lärorikt att dela med varandra i samtal sedan. Det tycker jag var den största behållningen\, att arbeta med sig själv och sedan få dela med sig av det och även att lyssna på andra kursdeltagare.” Maria 2020 \n”Jag vill varmt rekommendera den välgörande två dagars kursen i existentiell psykologi! Personliga insikter utöver nya kunskaper i den filosofi som utgör grunden i denna mest intressanta del av psykologin\, bär jag med mig efter kursen. Kursledaren bemötte oss deltagare med mycken värme\, stort intresse\, kompetens och engagemang i kombination med livserfarenhet och inbjudan till de stora frågorna i livet. Så lägligt mitt under en världsomfattande kris! Oavsett om man hör till dem som har mer tid att tänka än vanligt\, eller till dem som behöver ge sig själv andrum i en stressad situation är kursen helt rätt.” Anette 2020 \n”Så givande att vi fick gå in och se vårt eget liv utifrån ett existentiellt perspektiv\, massa insikter och förståelse i hur våra kriser format oss.” \n”Tack för två djupdykande dagar. In i det djupa\, in i dödens vitöga och ut i framtidens skapelse\, som vi målade ut på våra ”livslinjer”. Det var en bra och nödvändig resa för att lättare kunna förstå och möta rädslorna inför det oundvikliga. Det känns som jag fick insikter och förståelse\, samt ”tankeverktyg” för att kunna släppa och bli fri från rädslor och blockeringar\, här och nu. Tack för allt detta fantastiska du ger och har skapat Anki.” \n”Att så mycket i livet behandlar existentiella frågor och viktiga aspekter av livet är otroligt. Någonting som alla människor behöver prata om och dyka djupare in i för att förstå sig själv och andra bättre.” \nKursledare: SER-terapeut Anki Persson\, utbildare och grundare av SER-utbildningen. \nNu kör vi på Zoom och på plats samtidigt så du kan välja på antingen att komma till oss i Ramlösa och gå kursen eller ta den på på Zoom/distans.\n(Du måste bestämma dig innan vilken du väljer. Instruktioner kommer innan kursen gällande Zoom.) Vi rekommenderar att du kommer om du kan. \nVi träffas  torsdag – fredag den  16 – 17  april 2026  Kl. 9.00 – 15.00 \nAnmälan görs per info@serterapi.se eller 042-213600\, meddela namn\, adress\, tel\, mail och skriv ”existentiell kurs” och vilket datum du vill gå. \nPris: 3500 kr inkl moms\nAnmälningsavgift 500 kr betalas vid anmälan\, resten vid / innan kurstillfället (går att dela upp på två ggr). Faktura och kursen måste betalas innan kursstarten. \nAvbokning: Två veckor innan kursstart så övergår din anmälan till en bindande anmälan. Du är då skyldig att betala kursavgiften även om du inte kan deltaga på kursen. \nVill du ha intyg på kursen?\nIntyg att man gått kursen fås mot att man även läser två böcker som man redovisar. litteraturlistan delas ut på kursen. \n  \n\n \n\n\nI samarbete med kurser.se
URL:https://serterapi.se/event/existentiell-psykologi-kurs/
LOCATION:Dunkärrsgatan 2 i Ramlösa och på Zoom
CATEGORIES:Utbildningar & kurser
ATTACH;FMTTYPE=image/png:https://serterapi.se/wp-content/uploads/2024/08/existentiell-kurs.png
END:VEVENT
END:VCALENDAR