BEGIN:VCALENDAR
VERSION:2.0
PRODID:-//Akademin för SERterapi - ECPv6.15.20//NONSGML v1.0//EN
CALSCALE:GREGORIAN
METHOD:PUBLISH
X-WR-CALNAME:Akademin för SERterapi
X-ORIGINAL-URL:https://serterapi.se
X-WR-CALDESC:Händelser för Akademin för SERterapi
REFRESH-INTERVAL;VALUE=DURATION:PT1H
X-Robots-Tag:noindex
X-PUBLISHED-TTL:PT1H
BEGIN:VTIMEZONE
TZID:Europe/Paris
BEGIN:DAYLIGHT
TZOFFSETFROM:+0100
TZOFFSETTO:+0200
TZNAME:CEST
DTSTART:20250330T010000
END:DAYLIGHT
BEGIN:STANDARD
TZOFFSETFROM:+0200
TZOFFSETTO:+0100
TZNAME:CET
DTSTART:20251026T010000
END:STANDARD
BEGIN:DAYLIGHT
TZOFFSETFROM:+0100
TZOFFSETTO:+0200
TZNAME:CEST
DTSTART:20260329T010000
END:DAYLIGHT
BEGIN:STANDARD
TZOFFSETFROM:+0200
TZOFFSETTO:+0100
TZNAME:CET
DTSTART:20261025T010000
END:STANDARD
BEGIN:DAYLIGHT
TZOFFSETFROM:+0100
TZOFFSETTO:+0200
TZNAME:CEST
DTSTART:20270328T010000
END:DAYLIGHT
BEGIN:STANDARD
TZOFFSETFROM:+0200
TZOFFSETTO:+0100
TZNAME:CET
DTSTART:20271031T010000
END:STANDARD
BEGIN:DAYLIGHT
TZOFFSETFROM:+0100
TZOFFSETTO:+0200
TZNAME:CEST
DTSTART:20280326T010000
END:DAYLIGHT
BEGIN:STANDARD
TZOFFSETFROM:+0200
TZOFFSETTO:+0100
TZNAME:CET
DTSTART:20281029T010000
END:STANDARD
END:VTIMEZONE
BEGIN:VEVENT
DTSTART;TZID=Europe/Paris:20260913T070000
DTEND;TZID=Europe/Paris:20271102T150000
DTSTAMP:20260420T214734
CREATED:20230105T122753Z
LAST-MODIFIED:20260327T091504Z
UID:2450-1789282800-1825167600@serterapi.se
SUMMARY:Start Steg 2 (Samtalsterapeut SER-utbildningen)
DESCRIPTION:Krav: Gått vår 1-åriga Regressionsterapeut utbildning (termin 1-2) \nS2627 – Samtalsterapi\, Steg 2\, Start 13 september 2026 kl 9-16\nUtbildningen är 3 dagar per tillfälle kl 9-16\, 6 träffar (sista dagen till kl 15)\n(2026) 13–15 september (sö-ti)\, 11–13 oktober (sö-ti)\, 22 – 24 november (sö-ti)\,\n(2027) 17 – 19 januari (sö-ti) 12 – 14 mars (fr-sö)\, 14 – 16 maj (fr-sö) \nI det andra året läggs fokus på samtalsterapin och sin terapeutroll. Under det året lär man sig processen i att ha en klient en längre tid i terapi. Det man lärt sig det första året i steg 1 knyts här samman. Integrering mellan eget upplevt och teorin är i fokus i hela utbildningen. Övningar sker i grupp och individuellt. I samtalet används till exempel visualisering\, bildterapi\, symbolterapi och drömmar. \nLäs mer om utbildningen \nUtbildningen är upplevelsebaserad. Delar av teorin vävs in i det praktiska arbetet. Litteratur läses hemma som komplement för att förstå det ni upplever på träffarna \nTermin 3-4. Exempel på lektioner:Samtalspedagogik/terapeutrollenSamtalsprocessenPsykologiska teorier och deras synsätt på människan . Den integrativa psykologin SER terapin bygger på.Våra grundläggande behov\nKris\, trauma och vad händer när trygghetssystemet slås ut.\nFamiljen och nätverket –att leva i ett systemDitt inre barnDelpersonligheter\, våra överlevnadsmekanismerVåra nio grundkänslor\, sorg\, aggressivitetens olika ansikten\, skam\, skuld\, rädsla\, glädje mmHögkänslighet\, introvert – extrovert\, Offer – FörövareAnsvar\, viljan\, vårt högre själv\, positiv psykologiDrömterapi\, att genom sina drömmar få en djupare förståelse för sig själv och att hjälpa klienten till förståelse. Ullmans teorier /Grupprocess och den individuella förståelsen för sina egna drömmar /drömmarnas alkemiDen djupare relationen som skapas mellan klient och terapeut. När terapeuten är verktyget. Gyllenstens integrativa psykologiSymbolisering i teori och praktik. Arketyper\, symboler\, sagor . Ni tittar på varför vissa sagor och symboler berört er.Bildterapi – När orden inte räcker till eller är ett hinder så blir bilden ett sätt att förmedla sig.Skriftlig redovisning av kurslitteratur och hemuppgifter.Praktiska övningar i (bild\, drömmar\, samtalet\, lyssnandet\, m.m.) som klient och terapeut eller i grupp. \nTermin 5 EFB- Energi Flow Breathing\nUtbildningen är 3 dagar per tillfälle kl 9-16\, 3 träffar\n(Datum kommer inför terminen) \nExempel på lektioner:\nExistentiell Psykologi\nPsykopatologi: Hur ska terapeuten tänka och göra vid olika symtom.\nEnergi Flow Breathing\nKroppspsykoterapi\nmm \ndiplomering Samtal och SER-terapeut \n  \n \n\n\nI samarbete med studentum.se
URL:https://serterapi.se/event/start-steg-2-samtalsterapeut-utbildningen-2/
LOCATION:Dunkärrsgatan 2 i Ramlösa
CATEGORIES:Utbildningar & kurser
ATTACH;FMTTYPE=image/jpeg:https://serterapi.se/wp-content/uploads/2023/01/en-grupp-manniskor-som-lyssnar.jpg
END:VEVENT
BEGIN:VEVENT
DTSTART;TZID=Europe/Paris:20260917T090000
DTEND;TZID=Europe/Paris:20270623T160000
DTSTAMP:20260420T214734
CREATED:20260119T120813Z
LAST-MODIFIED:20260305T124834Z
UID:3164-1789635600-1813766400@serterapi.se
SUMMARY:Start: STEG 1 (Regressionsutbildningen) i Ramlösa
DESCRIPTION:VÄLKOMMEN ATT ANMÄLA DIG. \nFörsta året till att bli Samtalsterapeut (SER terapeut)\nUtbildningstiden är 1 år\, man blir diplomerad regressionsterapeut och har nu gått steg 1 i att bli samtalsterapeut.\nKost och logi ingår inte i utbildningskostnaden. \nStart hösten 2026 Ramlösa \nRh2627R Helggrupp – Regressionsterapi\, Steg 1\, Start 17 september 2026\nUtbildningen över helg kl 9-16\, 5 träffar i Ramlösa\n2026 17-20 september\, 26–29 november.\n2027 21-24 januari\, 4–7 mars\, 20–23 maj \nUtbildare på plats: SER-terapeut Anki Persson. \nmer info om utbildningen \nFörkunskaper: För att komma med i utbildningen krävs det inga direkta förkunskaper utom ett genuint intresse för människor och att vilja utvecklas själv som människa. I utbildningen brukar det vara allt från deltagare som är helt nya i detta tänkande och har inga grundkunskaper i psykologi/personlig utveckling till dem som arbetat som terapeut i många år eller har en akademisk examen inom psykologi. \nUtbildningen är upplevelsebaserad. Delar av teorin vävs in i det praktiska arbetet. Litteratur läses hemma som komplement för att förstå det ni upplever på träffarna. \nI det första året läggs grunden i att möta klienten och att gå ned i sitt eget djup. Här är den egna utvecklingen mest i fokus (man är lika mycket klient som terapeut och ett utrymme ges att prata om sitt eget liv och sin egen inre utveckling) samtidigt som man lär sig det terapeutiska verktyget regressionsterapi och övar på terapeutrollen. Vi arbetar med våra känslominnen i en emotionell baserad terapiform \nEx på innehåll:\nTeori:\nBarndomens påverkan på nuet(psykologi)\,\nSjälsperspektiv på vem vi är och vad vi har med oss\,\nIscensättningsperspektivet\nIscensättning/återskapelse – livets och psykets/själens egna reparationssystem till helande.\nObjektrelationsteorin\nAnknytningsteorin.\nVåra känslominnen och barndomstrauma\nRegressionsterapi både utifrån ett transpersonellt och psykodynamiskt perspektiv\nRegressionstekniker (Tidigare liv/Symboliska liv\, Emotionella och Fysiska resan\, Delpersonligheter\, Barndom-Minnenas hus\, Intergrerade regressioner mm)\nAlternativterapeutiska och Psykologiska förklaringsmodeller\nRoller och mönster. Delpersonligheter och olika psykiska försvar.\nAtt förändra tankar och förlösa känslor.\nEmpati och förlåtelsen.\nSekretess. Etik. Dokumentation.\nDet första samtalet – mötet. Uppföljning av regressionsterapin.\nStarta upp som terapeut. Tips och råd.\nRedovisning av kurslitteratur. \nErfarenhetsbaserad kunskap:\nEgenterapi i grupp.\nPraktiska övningar i regressionsterapi som klient\, terapeut och bisittare i terapisituationer.\nDjupavslappning\, meditation\, visualisering i terapi. \nFörsta året finns det möjlighet att gå på vardag eller helg. Grupperna består av max 9 deltagare då det ska finnas stort utrymme till varje persons upplevelser. \nEfter utbildningen kan man gå vidare 1 ½ år till att bli diplomerad Samtal (SER) terapeut. Läs mer här\nDet är enbart VÅR Regressionsterapeut utbildning som ger behörighet att gå vidare till SER-terapeut. \n \n\n\nI samarbete med studentum.se
URL:https://serterapi.se/event/start-steg-1-regressionsutbildningen-i-ramlosa-2/
LOCATION:Dunkärrsgatan 2 i Ramlösa
CATEGORIES:datum kursstart,Utbildningar & kurser
ATTACH;FMTTYPE=image/jpeg:https://serterapi.se/wp-content/uploads/2023/01/Regressionsutbildningen.jpeg
END:VEVENT
END:VCALENDAR